BEGIN:VCALENDAR
VERSION:2.0
PRODID:-//sumaipuglia.it - ECPv6.2.8//NONSGML v1.0//EN
CALSCALE:GREGORIAN
METHOD:PUBLISH
X-ORIGINAL-URL:https://sumaipuglia.it
X-WR-CALDESC:Eventi per sumaipuglia.it
REFRESH-INTERVAL;VALUE=DURATION:PT1H
X-Robots-Tag:noindex
X-PUBLISHED-TTL:PT1H
BEGIN:VTIMEZONE
TZID:UTC
BEGIN:STANDARD
TZOFFSETFROM:+0000
TZOFFSETTO:+0000
TZNAME:UTC
DTSTART:20280101T000000
END:STANDARD
END:VTIMEZONE
BEGIN:VEVENT
DTSTART;VALUE=DATE:20280315
DTEND;VALUE=DATE:20280316
DTSTAMP:20260423T105408
CREATED:20231204T121301Z
LAST-MODIFIED:20231214T082817Z
UID:10001333-1836691200-1836777599@sumaipuglia.it
SUMMARY:Ultimo giorno per inviare la disponibilità ad assumere gli incarichi pubblicati (art. 21.1 AIR)
DESCRIPTION:
URL:https://sumaipuglia.it/event/ultimo-giorno-per-inviare-la-disponibilita-ad-assumere-gli-incarichi-pubblicati-art-21-1-air-2/2028-03-15/
CATEGORIES:Scadenza
END:VEVENT
BEGIN:VEVENT
DTSTART;VALUE=DATE:20280401
DTEND;VALUE=DATE:20280402
DTSTAMP:20260423T105408
CREATED:20231214T083118Z
LAST-MODIFIED:20231214T083118Z
UID:10001417-1838160000-1838246399@sumaipuglia.it
SUMMARY:Primo giorno per l’invio dell’autocertificazione relativa al precedente trimestre gennaio/marzo\, per il Fondo per la ponderazione qualitativa delle quote orarie (art. 1\, n. 1\, AIR)
DESCRIPTION:Compila online\, scarica e invia i seguenti moduli: \n\nDichiaraz. trimestrale Fondo pond. qual. (medici)_MODULO\nDichiaraz. trimestrale Fondo pond. qual. (veterinari)_MODULO\nDichiaraz. trimestrale Fondo pond. qual. (psicologi)_MODULO\nDichiaraz. trimestrale Fondo pond. qual. (biologi)_MODULO
URL:https://sumaipuglia.it/event/primo-giorno-per-linvio-dellautocertificazione-relativa-al-precedente-trimestre-gennaio-marzo-per-il-fondo-per-la-ponderazione-qualitativa-delle-quote-orarie-art-1-n-1-air/2028-04-01/
CATEGORIES:Scadenza
END:VEVENT
BEGIN:VEVENT
DTSTART;VALUE=DATE:20280410
DTEND;VALUE=DATE:20280411
DTSTAMP:20260423T105408
CREATED:20231204T121438Z
LAST-MODIFIED:20231214T083203Z
UID:10001343-1838937600-1839023999@sumaipuglia.it
SUMMARY:Ultimo giorno per inviare l’autocertificazione relativa al precedente trimestre gennaio/marzo\, per il Fondo per la ponderazione qualitativa delle quote orarie (art. 1\, n. 1\, AIR)
DESCRIPTION:Compila online\, scarica e invia i seguenti moduli: \n\nDichiaraz. trimestrale Fondo pond. qual. (medici)_MODULO\nDichiaraz. trimestrale Fondo pond. qual. (veterinari)_MODULO\nDichiaraz. trimestrale Fondo pond. qual. (psicologi)_MODULO\nDichiaraz. trimestrale Fondo pond. qual. (biologi)_MODULO
URL:https://sumaipuglia.it/event/ultimo-giorno-per-inviare-lautocertificazione-relativa-al-precedente-trimestre-gennaio-marzo-per-il-fondo-per-la-ponderazione-qualitativa-delle-quote-orarie-art-1-n-1-air/2028-04-10/
CATEGORIES:Scadenza
END:VEVENT
BEGIN:VEVENT
DTSTART;VALUE=DATE:20280615
DTEND;VALUE=DATE:20280616
DTSTAMP:20260423T105408
CREATED:20231204T121838Z
LAST-MODIFIED:20231204T121838Z
UID:10001339-1844640000-1844726399@sumaipuglia.it
SUMMARY:Ultimo giorno per inviare la disponibilità ad assumere gli incarichi pubblicati (art. 21.1 AIR)
DESCRIPTION:Scarica il modulo >
URL:https://sumaipuglia.it/event/ultimo-giorno-per-inviare-la-disponibilita-ad-assumere-gli-incarichi-pubblicati-art-21-1-air-3/2028-06-15/
CATEGORIES:Scadenza
END:VEVENT
BEGIN:VEVENT
DTSTART;VALUE=DATE:20280701
DTEND;VALUE=DATE:20280702
DTSTAMP:20260423T105408
CREATED:20231214T083357Z
LAST-MODIFIED:20231214T083357Z
UID:10001422-1846022400-1846108799@sumaipuglia.it
SUMMARY:Primo giorno per l’invio dell’autocertificazione relativa al precedente trimestre aprile/giugno\, per il Fondo per la ponderazione qualitativa delle quote orarie (art. 1\, n. 1\, AIR)
DESCRIPTION:Compila online\, scarica e invia i seguenti moduli: \n\nDichiaraz. trimestrale Fondo pond. qual. (medici)_MODULO\nDichiaraz. trimestrale Fondo pond. qual. (veterinari)_MODULO\nDichiaraz. trimestrale Fondo pond. qual. (psicologi)_MODULO\nDichiaraz. trimestrale Fondo pond. qual. (biologi)_MODULO
URL:https://sumaipuglia.it/event/primo-giorno-per-linvio-dellautocertificazione-relativa-al-precedente-trimestre-aprile-giugno-per-il-fondo-per-la-ponderazione-qualitativa-delle-quote-orarie-art-1-n-1-air/2028-07-01/
CATEGORIES:Scadenza
END:VEVENT
BEGIN:VEVENT
DTSTART;VALUE=DATE:20280710
DTEND;VALUE=DATE:20280711
DTSTAMP:20260423T105408
CREATED:20231204T122132Z
LAST-MODIFIED:20231214T083441Z
UID:10001348-1846800000-1846886399@sumaipuglia.it
SUMMARY:Ultimo giorno per inviare l’autocertificazione relativa al precedente trimestre aprile/giugno\, per il Fondo per la ponderazione qualitativa delle quote orarie (art. 1\, n. 1\, AIR)
DESCRIPTION:Compila online\, scarica e invia i seguenti moduli: \n\nDichiaraz. trimestrale Fondo pond. qual. (medici)_MODULO\nDichiaraz. trimestrale Fondo pond. qual. (veterinari)_MODULO\nDichiaraz. trimestrale Fondo pond. qual. (psicologi)_MODULO\nDichiaraz. trimestrale Fondo pond. qual. (biologi)_MODULO
URL:https://sumaipuglia.it/event/ultimo-giorno-per-inviare-lautocertificazione-relativa-al-precedente-trimestre-aprile-giugno-per-il-fondo-per-la-ponderazione-qualitativa-delle-quote-orarie-art-1-n-1-air/2028-07-10/
CATEGORIES:Scadenza
END:VEVENT
BEGIN:VEVENT
DTSTART;VALUE=DATE:20280915
DTEND;VALUE=DATE:20280916
DTSTAMP:20260423T105408
CREATED:20231204T122429Z
LAST-MODIFIED:20231214T084414Z
UID:10001353-1852588800-1852675199@sumaipuglia.it
SUMMARY:Ultimo giorno per inviare la disponibilità ad assumere gli incarichi pubblicati (art. 21.1 AIR)
DESCRIPTION:
URL:https://sumaipuglia.it/event/ultimo-giorno-per-inviare-la-disponibilita-ad-assumere-gli-incarichi-pubblicati-art-21-1-air-4/2028-09-15/
CATEGORIES:Scadenza
END:VEVENT
BEGIN:VEVENT
DTSTART;VALUE=DATE:20280930
DTEND;VALUE=DATE:20281001
DTSTAMP:20260423T105408
CREATED:20231204T122629Z
LAST-MODIFIED:20231214T084550Z
UID:10001427-1853884800-1853971199@sumaipuglia.it
SUMMARY:Ultimo giorno per la pubblicazione delle graduatorie provvisorie sul sito web delle AA.SS.LL. (art. 19.8 ACN). Istanze di riesame da presentare entro 15 giorni dalla pubblicazione (art. 19.9 ACN)
DESCRIPTION:
URL:https://sumaipuglia.it/event/ultimo-giorno-per-la-pubblicazione-delle-graduatorie-provvisorie-sul-sito-web-delle-aa-ss-ll-art-19-8-acn-istanze-di-riesame-da-presentare-entro-15-giorni-dalla-pubblicazione-art-19-9-acn/2028-09-30/
CATEGORIES:Scadenza
END:VEVENT
BEGIN:VEVENT
DTSTART;VALUE=DATE:20281001
DTEND;VALUE=DATE:20281002
DTSTAMP:20260423T105408
CREATED:20231214T084729Z
LAST-MODIFIED:20231214T084729Z
UID:10001432-1853971200-1854057599@sumaipuglia.it
SUMMARY:Primo giorno per l’invio dell’autocertificazione relativa al precedente trimestre luglio/settembre\, per il Fondo per la ponderazione qualitativa delle quote orarie (art. 1\, n. 1\, AIR)
DESCRIPTION:Compila online\, scarica e invia i seguenti moduli: \n\nDichiaraz. trimestrale Fondo pond. qual. (medici)_MODULO\nDichiaraz. trimestrale Fondo pond. qual. (veterinari)_MODULO\nDichiaraz. trimestrale Fondo pond. qual. (psicologi)_MODULO\nDichiaraz. trimestrale Fondo pond. qual. (biologi)_MODULO
URL:https://sumaipuglia.it/event/primo-giorno-per-linvio-dellautocertificazione-relativa-al-precedente-trimestre-luglio-settembre-per-il-fondo-per-la-ponderazione-qualitativa-delle-quote-orarie-art-1-n-1-air/2028-10-01/
CATEGORIES:Scadenza
END:VEVENT
BEGIN:VEVENT
DTSTART;VALUE=DATE:20281010
DTEND;VALUE=DATE:20281011
DTSTAMP:20260423T105408
CREATED:20231204T122809Z
LAST-MODIFIED:20231214T084755Z
UID:10001363-1854748800-1854835199@sumaipuglia.it
SUMMARY:Ultimo giorno per inviare l’autocertificazione relativa al precedente trimestre luglio/settembre\, per il Fondo per la ponderazione qualitativa delle quote orarie (art. 1\, n. 1\, AIR)
DESCRIPTION:Compila online\, scarica e invia i seguenti moduli: \n\nDichiaraz. trimestrale Fondo pond. qual. (medici)_MODULO\nDichiaraz. trimestrale Fondo pond. qual. (veterinari)_MODULO\nDichiaraz. trimestrale Fondo pond. qual. (psicologi)_MODULO\nDichiaraz. trimestrale Fondo pond. qual. (biologi)_MODULO
URL:https://sumaipuglia.it/event/ultimo-giorno-per-inviare-lautocertificazione-relativa-al-precedente-trimestre-luglio-settembre-per-il-fondo-per-la-ponderazione-qualitativa-delle-quote-orarie-art-1-n-1-air/2028-10-10/
CATEGORIES:Scadenza
END:VEVENT
END:VCALENDAR